BEGIN:VCALENDAR
VERSION:2.0
PRODID:-// - ECPv6.15.20//NONSGML v1.0//EN
CALSCALE:GREGORIAN
METHOD:PUBLISH
X-ORIGINAL-URL:https://hgop-pijnacker.nl
X-WR-CALDESC:Evenementen voor 
REFRESH-INTERVAL;VALUE=DURATION:PT1H
X-Robots-Tag:noindex
X-PUBLISHED-TTL:PT1H
BEGIN:VTIMEZONE
TZID:Europe/Amsterdam
BEGIN:DAYLIGHT
TZOFFSETFROM:+0100
TZOFFSETTO:+0200
TZNAME:CEST
DTSTART:20250330T010000
END:DAYLIGHT
BEGIN:STANDARD
TZOFFSETFROM:+0200
TZOFFSETTO:+0100
TZNAME:CET
DTSTART:20251026T010000
END:STANDARD
BEGIN:DAYLIGHT
TZOFFSETFROM:+0100
TZOFFSETTO:+0200
TZNAME:CEST
DTSTART:20260329T010000
END:DAYLIGHT
BEGIN:STANDARD
TZOFFSETFROM:+0200
TZOFFSETTO:+0100
TZNAME:CET
DTSTART:20261025T010000
END:STANDARD
BEGIN:DAYLIGHT
TZOFFSETFROM:+0100
TZOFFSETTO:+0200
TZNAME:CEST
DTSTART:20270328T010000
END:DAYLIGHT
BEGIN:STANDARD
TZOFFSETFROM:+0200
TZOFFSETTO:+0100
TZNAME:CET
DTSTART:20271031T010000
END:STANDARD
END:VTIMEZONE
BEGIN:VEVENT
DTSTART;TZID=Europe/Amsterdam:20260428T200000
DTEND;TZID=Europe/Amsterdam:20260428T220000
DTSTAMP:20260421T235622
CREATED:20260114T104900Z
LAST-MODIFIED:20260226T130014Z
UID:7221-1777406400-1777413600@hgop-pijnacker.nl
SUMMARY:Lezing over de Atlantikwall door Nick Warmerdam
DESCRIPTION:De Atlantikwall: een verdedigingslinie van mythische proportie? \nBunkerbouw in Wassenaar\nDe Atlantikwall spreekt nog altijd tot de verbeelding. Maar wat was deze verdedigingslinie precies\, waarom was de aanleg noodzakelijk en hoe ‘mythisch’ was deze in de propaganda zo opgehemelde linie werkelijk? \nIn deze lezing van het Historisch Genootschap Oud-Pijnacker wordt de Atlantikwall geplaatst in een bredere militaire en landschappelijke context. Daarbij wordt gekeken naar de militairen die zich aan de kust bevonden en besproken hoe deze verdedigingslinie zich ontwikkelde tot een complex verdedigingssysteem langs de Zuid-Hollandse kust. \nTijdens de Tweede Wereldoorlog veranderde Zuid-Holland in een van de grootste bouw- en legeringsplaatsen van Nederland. Gelegen aan de westgrens van het Derde Rijk kreeg de provincie een sleutelrol in zowel de voorbereiding van de invasie van Engeland als in de latere verdediging tegen een geallieerde aanval. De vrees voor een tweefrontenoorlog leidde er in de winter van 1941 toe dat Hitler het bevel gaf tot de aanleg van de Neue Westwall\, later omgedoopt tot de Atlantikwall. Wat volgde was de bouw van een 5.000 kilometer lange verdedigingslinie met tienduizenden bunkers langs de gehele westkust. Ook in Zuid-Holland verrezen in enkele jaren honderden verdedigingscomplexen\, opgebouwd uit gestandaardiseerde bomvrije bunkers en veldversterkingen\, samengebracht in grotere verdedigingsgebieden. \nToch stond de Atlantikwall niet op zichzelf. De linie maakte deel uit van een veel omvangrijker\, gefaseerd aangelegd militair kustverdedigingssysteem dat gedurende de oorlog voortdurend werd uitgebreid en versterkt. Tienduizenden mensen\, vaak gedwongen\, werkten uiteindelijk mee aan wat uitgroeide tot een van de grootste bouwoperaties van de twintigste eeuw. \nNick Warmerdam is coördinator kennis en senior adviseur archeologie bij Erfgoedhuis Zuid-Holland. In zijn vrije tijd is Nick betrokken bij verschillende projecten rondom de Atlantikwall en oorlogsfotografie in de provincie. Ook doet hij onderzoek naar het lot van de Duitse gevangenen die na de oorlog Nederland mijnenvrij moesten maken. Hij schreef recent onder andere het boek ‘Gewapend met karabijn en camera’ over Zuid-Holland in oorlogstijd gezien door de lens van Wehrmacht-soldaten. \nWanneer: dinsdagavond 28 april 2026 \nLocatie: ‘De Acker’\, Park Berkenoord 2\, Pijnacker. \nAanvang: 20.00 uur\, inloop vanaf 19.30 uur. \nGratis toegang voor HGOP-leden\, voor niet-leden € 10\,- (contant te betalen aan de zaal)
URL:https://hgop-pijnacker.nl/event/lezing-over-de-atlantikwall-door-nick-warmerdam/
LOCATION:De Acker Pijnacker\, Park Berkenoord 2\, Pijnacker
END:VEVENT
BEGIN:VEVENT
DTSTART;VALUE=DATE:20260509
DTEND;VALUE=DATE:20260510
DTSTAMP:20260421T235622
CREATED:20260126T093403Z
LAST-MODIFIED:20260217T090106Z
UID:7227-1778284800-1778371199@hgop-pijnacker.nl
SUMMARY:Excursie musea Atlanticwall en Engelandvaarders. Volgeboekt!
DESCRIPTION:Let op: Deze excursie is volgeboekt!\nOp 28 april is er als opmaat voor de excursie over de Atlantikwall een lezing door Nick Warmerdam. Op zaterdag 9 mei gaan we met een groep van maximaal 25 deelnemers naar Noordwijk voor een bezoek aan het Englandvaardersmuseum en het Atlantikwall Museum. \nWe vertrekken met een historische bus om 12.00 uur vanaf het parkeerterrein bij het Baken en zijn om 18.30 uur weer bij Het Baken. \nDe kosten bedragen € 50. Daarvoor krijg je vervoer in een bijna antieke bus\, de entree tot de twee musea inclusief rondleiding door gidsen in beide musea\, koffie of thee én de borrel (twee consumpties) in een strandpaviljoen. \nProgramma: \n12.00 uur          vertrek van parkeerterrein Het Baken \n12.45 uur          aankomst \n5 min lopen \n  \n13.00 uur          rondleiding in Museum Engelandvaarders \n14.30 uur          koffie of thee in het museum \n14.45 uur          vertrek \n5 min lopen \n  \n15.00 uur          rondleiding Atlantikwall Museum \n16.30 uur          vertrek \n10 min lopen \n  \n16.40 uur          borrel bij strandpaviljoen Zeemeeuw \n17.30 uur          vertrek \n10 min lopen \n  \n17.45 uur          vertrek met bus \n18.30 uur          aankomst Pijnacker \nEr is plaats voor maximaal 25 leden die op volgorde van aanmelding worden geregistreerd. Vol is vol\, bij over-inschrijving wordt uiteraard het door je betaalde deelnamebedrag teruggestort. \n 
URL:https://hgop-pijnacker.nl/event/excursie-musea-atlanticwall-en-engelandvaarders/
END:VEVENT
BEGIN:VEVENT
DTSTART;TZID=Europe/Amsterdam:20260528T200000
DTEND;TZID=Europe/Amsterdam:20260528T220000
DTSTAMP:20260421T235622
CREATED:20260121T142931Z
LAST-MODIFIED:20260227T114314Z
UID:7224-1779998400-1780005600@hgop-pijnacker.nl
SUMMARY:Hip-lezing: Pijnacker uit de klei getrokken
DESCRIPTION:Nadere informatie volgt
URL:https://hgop-pijnacker.nl/event/hip-lezing/
LOCATION:Bibliotheek Pijnacker\, Julianalaan 47\, Pijnacker
END:VEVENT
BEGIN:VEVENT
DTSTART;TZID=Europe/Amsterdam:20260914T200000
DTEND;TZID=Europe/Amsterdam:20260914T220000
DTSTAMP:20260421T235622
CREATED:20260410T165658Z
LAST-MODIFIED:20260410T165658Z
UID:7687-1789416000-1789423200@hgop-pijnacker.nl
SUMMARY:Kastelen en adellijke huizen in het Westland en Midden-Delfland
DESCRIPTION:Op maandag 14 september komen Harry Groenewegen en Jacques Moerman een lezing geven over Kastelen en adellijke huizen in het Westland en Midden-Delfland. Nadere informatie volgt nog.
URL:https://hgop-pijnacker.nl/event/kastelen-en-adellijke-huizen-in-het-westland-en-midden-delfland/
LOCATION:De Acker Pijnacker\, Park Berkenoord 2\, Pijnacker
ATTACH;FMTTYPE=image/jpeg:https://hgop-pijnacker.nl/storage/2026/04/10-kastelen-en-adelijke-huizen-scaled.jpeg
END:VEVENT
BEGIN:VEVENT
DTSTART;TZID=Europe/Amsterdam:20261027T200000
DTEND;TZID=Europe/Amsterdam:20261027T220000
DTSTAMP:20260421T235622
CREATED:20260324T133751Z
LAST-MODIFIED:20260416T165755Z
UID:7650-1793131200-1793138400@hgop-pijnacker.nl
SUMMARY:Lezing over Frans Hals en Rembrandt van Rijn
DESCRIPTION:Twee grootmeesters\nFrans Hals en Rembrandt van Rijn zijn de twee grootmeesters van de 17de-eeuwse Hollandse portretkunst. Ze worden allebei geroemd om hun bijzondere losse schilderstijl en vermogen om mensen levensecht weer te geven – niet alleen rijke regenten\, maar ook kinderen\, toneelspelers en muzikanten. Maar verschillen zijn er ook. Rembrandt schilderde zoekend en voegde steeds lagen toe om tot de kern van zijn onderwerpen te komen. Hals lijkt trefzekerder en sneller te werk te zijn gegaan\, met schilderijen als snapshots van de werkelijkheid als resultaat. \nIn het Frans Halsmuseum is aansluitend\, vanaf 6 november\, een tentoonstelling van werken van de twee beroemdste portretschilders van de 17de eeuw\, zoals hun groepsportretten van staalmeesters en regentessen. \nChristi Klinkert geeft hierover een lezing. Nadere informatie volgt.
URL:https://hgop-pijnacker.nl/event/lezing-over-frans-hals-en-rembrand-van-rijn/
LOCATION:De Acker Pijnacker\, Park Berkenoord 2\, Pijnacker
ATTACH;FMTTYPE=image/png:https://hgop-pijnacker.nl/storage/2026/03/Schermafbeelding-2026-03-24-144336.png
END:VEVENT
END:VCALENDAR