BEGIN:VCALENDAR
VERSION:2.0
PRODID:-// - ECPv6.15.20//NONSGML v1.0//EN
CALSCALE:GREGORIAN
METHOD:PUBLISH
X-ORIGINAL-URL:https://hgop-pijnacker.nl
X-WR-CALDESC:Evenementen voor 
REFRESH-INTERVAL;VALUE=DURATION:PT1H
X-Robots-Tag:noindex
X-PUBLISHED-TTL:PT1H
BEGIN:VTIMEZONE
TZID:Europe/Amsterdam
BEGIN:DAYLIGHT
TZOFFSETFROM:+0100
TZOFFSETTO:+0200
TZNAME:CEST
DTSTART:20220327T010000
END:DAYLIGHT
BEGIN:STANDARD
TZOFFSETFROM:+0200
TZOFFSETTO:+0100
TZNAME:CET
DTSTART:20221030T010000
END:STANDARD
BEGIN:DAYLIGHT
TZOFFSETFROM:+0100
TZOFFSETTO:+0200
TZNAME:CEST
DTSTART:20230326T010000
END:DAYLIGHT
BEGIN:STANDARD
TZOFFSETFROM:+0200
TZOFFSETTO:+0100
TZNAME:CET
DTSTART:20231029T010000
END:STANDARD
BEGIN:DAYLIGHT
TZOFFSETFROM:+0100
TZOFFSETTO:+0200
TZNAME:CEST
DTSTART:20240331T010000
END:DAYLIGHT
BEGIN:STANDARD
TZOFFSETFROM:+0200
TZOFFSETTO:+0100
TZNAME:CET
DTSTART:20241027T010000
END:STANDARD
BEGIN:DAYLIGHT
TZOFFSETFROM:+0100
TZOFFSETTO:+0200
TZNAME:CEST
DTSTART:20250330T010000
END:DAYLIGHT
BEGIN:STANDARD
TZOFFSETFROM:+0200
TZOFFSETTO:+0100
TZNAME:CET
DTSTART:20251026T010000
END:STANDARD
END:VTIMEZONE
BEGIN:VEVENT
DTSTART;TZID=Europe/Amsterdam:20240518T093000
DTEND;TZID=Europe/Amsterdam:20240518T180000
DTSTAMP:20260426T042647
CREATED:20240115T082944Z
LAST-MODIFIED:20240401T094048Z
UID:4307-1716024600-1716055200@hgop-pijnacker.nl
SUMMARY:Excursie naar Dordrecht
DESCRIPTION:Op 18 mei gaan we met een groep van maximaal 45 deelnemers naar de historische stad Dordrecht\, waar nog veel van het verleden te zien is. \nOp 8 april is er als opmaat voor de excursie een lezing over ‘Dordrecht na 1421’. Een uitnodiging voor de lezing ontvang je volgende week. \nWe vertrekken om 9.30 uur en zijn om 18.00 uur weer thuis. \nDe kosten bedragen € 55. Daarvoor krijg je vervoer\, koffie met gebak\, een rondleiding met gids in Huis van Gijn\, de lunch\, een stadwandeling met gids én een borrel! \nDe toegang tot het Huis van Gijn bedraagt € 14\, maar is met een museumjaarkaart of Rembrandtkaart gratis. \n9.30 uur              vertrek bij het Baken met een historische RET stadsbus uit 1966 \n10.30 uur            koffie met gebak bij restaurant Post Johan de Wittstraat 128\, 3311KJ Dordrecht \n11.10 uur            lopen naar museum Huis van Gijn \n11.30 uur            rondleiding met gids in museum Huis van Gijn \n13.00 uur            lunch bij het Bolwerck Boomstraat 27\, 3311TC Dordrecht \n14.30 uur            stadswandeling met een gids van het Gilde van Dordrecht \n16.00 uur            borrel bij het Bolwerck \n17.00 uur             vertrek van de bus\, de bus staat vlakbij het Bolwerck. \n18.00 uur            aankomst in Pijnacker. \nAanmelding kan door een mailtje te sturen aan Joke van der Hulst: vanderhulst.joke@gmail.com\, én door € 55 over te maken op NL77 INGB 0005 3868 87 t.n.v. HGOP onder vermelding van ‘excursie’. \nAls je een vegetarische lunch wilt\, dan dat graag bij de aanmelding vermelden. \nEr is plaats voor maximaal 45 deelnemers die op volgorde van aanmelding worden geregistreerd. Vol is vol\, bij over-inschrijving wordt uiteraard het deelnamebedrag terug gestort. \n 
URL:https://hgop-pijnacker.nl/event/excursie-naar-dordrecht/
LOCATION:.\, Het baken\, Pijnacker\, Nederland
ATTACH;FMTTYPE=image/jpeg:https://hgop-pijnacker.nl/storage/2024/01/dordrecht-detail-groothoofspoort-scaled.jpg
END:VEVENT
BEGIN:VEVENT
DTSTART;VALUE=DATE:20240506
DTEND;VALUE=DATE:20241002
DTSTAMP:20260426T042647
CREATED:20240605T085320Z
LAST-MODIFIED:20240605T085617Z
UID:5095-1714953600-1727827199@hgop-pijnacker.nl
SUMMARY:Tentoonstelling "De paden op\, de lanen in"
DESCRIPTION:De tentoonstelling in de bieb\nSinds begin mei hebben de leden van het Historisch Informatie Punt de tentoonstelling in de bibliotheek aangepast naar een zomers thema: Ga met hen ‘de paden op en de lanen in’ en ontdek allerlei oude en nieuwe paden. Ons dorp heeft rond de 40 paden en ruim 100 lanen. Hoewel ze niet allemaal behandeld kunnen worden\, komen er vele aan bod. Cronicus schreef er al over in vroeger tijden: een rondje Molenpad\, het Hofland rond of even het Hoefpad doen\, het waren zondagse wandelingen die gedeeltelijk nog bestaan. \nDe hippers druk bezig met de voorbereiding\nIn het Historisch Informatie Punt kunt u ook een geprinte wandeling ophalen\, neem deze gerust mee om ons dorp nog beter te leren kennen. \nDaarnaast is er de PowerPoint met hedendaagse paden en lanen\, leuk om even neer te strijken en te kijken naar alle fietspaden in en rond Pijnacker. \nVragen over Pijnackerse onderwerpen? Spullen over die aan Pijnacker gerelateerd zijn? Kom eens langs op zaterdag tussen 11 en 1 uur. Er is altijd iemand van het HIP aanwezig voor een praatje.
URL:https://hgop-pijnacker.nl/event/tentoonstelling-de-paden-op-de-lanen-in/
LOCATION:Bibliotheek Pijnacker\, Julianalaan 47\, Pijnacker
END:VEVENT
BEGIN:VEVENT
DTSTART;TZID=Europe/Amsterdam:20240408T200000
DTEND;TZID=Europe/Amsterdam:20240408T220000
DTSTAMP:20260426T042648
CREATED:20240115T081651Z
LAST-MODIFIED:20240318T091641Z
UID:4290-1712606400-1712613600@hgop-pijnacker.nl
SUMMARY:Lezing: "Dordrecht na 1421"
DESCRIPTION:De geschiedenis van Dordrecht in vogelvlucht qua ruimte\, infrastructuur\, godsdienst\, politiek\, economie en mentaliteit vanaf de 15de eeuw tot nu. \nNatuurlijk komen aan de orde: Reformatie en gevolgen voor Dordrecht\, de Tachtigjarige oorlog\, de moord op Johan en Cornelis de Witt en de Dordtse Synode\, de Franse tijd met de revolutionaire veranderingen en het bezoek van Napoleon\, de concurrentie met de havenstad Rotterdam om de toegang tot de zeehandel\, de armoede in de 19de eeuw\, het ontstaan van de arbeidersklasse en de sociale kwestie. De gevolgen van de Eerste Wereldoorlog\, de crisis in de jaren dertig en in grote lijnen de Tweede Wereldoorlog. Verder ook de wederopbouw\, de jaren zestig en de jaren voor de eeuwwisseling. De 21ste eeuw komt ook nog een klein beetje aan bod met herstel van Dordrecht tegen de achtergrond van de globalisering. \nKortom\, de geschiedenis van de stad in zevenmijlslaarzen tempo. \nDrs. Kees Weltevrede\nDrs. Kees Weltevrede was leraar geschiedenis en maatschappijleer in de bovenbouw van havo en vwo. Afgestudeerd in maatschappijgeschiedenis aan de Erasmus Universiteit in Rotterdam en van 1996-2003 voorzitter van de Vereniging voor docenten Geschiedenis en Staatsinrichting in Nederland (VGN). \nIn zijn historische onderzoek richt hij zich op de geschiedenis van Dordrecht. Hij publiceerde De opkomst van het fascisme en nationaal-socialisme in Dordrecht van 1932-1935 en Stad in oorlog 1940-1945. \nBovendien schreef hij veel artikelen in het tijdschrift van de Historische Vereniging Oud-Dordrecht en is hij auteur van het jaarboek 2021 getiteld: We zijn vertrokken –  De Jodenvervolging in Dordrecht 1940-1945. \nHij is al jaren betrokken bij de cursus Dordtologie. \n  \nWanneer: maandagavond 8 april 2024 \nLocatie: ‘De Acker’\, Park Berkenoord 2\, Pijnacker. \nAanvang: 20.00 uur\, inloop vanaf 19.30 uur. \nGratis toegang voor leden\, voor niet-leden € 5\,- (Betaling bij binnenkomst\, u hoeft zich niet vooraf aan te melden). \n  \nHeeft u een vraag of opmerking over deze activiteit dan kunt u die hier plaatsen: \nSchakel JavaScript in je browser in om dit formulier in te vullen.Schakel JavaScript in je browser in om dit formulier in te vullen.Naam *VoornaamAchternaamE-mailadres: *Uw vraag of opmerking:Verzend
URL:https://hgop-pijnacker.nl/event/lezing-dordrecht-vanaf-1421/
LOCATION:De Acker Pijnacker\, Park Berkenoord 2\, Pijnacker
ATTACH;FMTTYPE=image/jpeg:https://hgop-pijnacker.nl/storage/2024/01/dordrecht-de-gulden-os_DxO-scaled.jpg
END:VEVENT
BEGIN:VEVENT
DTSTART;TZID=Europe/Amsterdam:20240305T200000
DTEND;TZID=Europe/Amsterdam:20240305T220000
DTSTAMP:20260426T042648
CREATED:20230425T152551Z
LAST-MODIFIED:20240305T071547Z
UID:1829-1709668800-1709676000@hgop-pijnacker.nl
SUMMARY:Lezing "Symboliek bij de 16e en 17e eeuwse Nederlandse kunstenaars"
DESCRIPTION:De symboliek in de Nederlandse schilderkunst van de 16e en 17e -eeuwse kunstschilders is een fascinerend onderwerp.  Arianna Deligianni ontrafelt enthousiast de diepe lagen en verborgen betekenissen van de Nederlandse schilderkunst uit deze periode.  Ze neemt ons mee op een boeiende verhalende reis door de tijd om de complexe wereld van Symboliek in de Nederlandse kunst te verkennen. Deze lezing biedt u een unieke kans om nieuwe inzichten te verkrijgen in verschillende betekenisvolle kunstwerken uit onze geschiedenis. \nWe horen over: \n\nReligieuze en Morele Symboliek (Bijbelse taferelen en allegorieën)\nVanitassymboliek (vergankelijkheid en ijdelheid van het aardse)\nSymboliek in Stillevens (kortstondigheid van het leven en de zinnelijkheid)\nSymboliek en Taal (geliefde spreekwoorden en uitdrukkingen vertalen naar beelden)\nSymboliek in Politieke\, Sociale Context (reflectie op politieke\, sociale omstandigheden)\nSymboliek van de invloed van de handel (gerelateerd aan rijkdom en handel)\n\nNa deze avond kunt u in de vele verschillende musea in Nederland nog meer genieten van onze Nederlandse kunstcollectie. Dus laat u verrassen en ontdek de verborgen symbolen achter de prachtige schilderijen\, die in de 16e en 17e eeuw gemaakt zijn. Uw bezoek aan musea zal er rijker door worden. \n Arianna Deligianni is een gedreven kunsthistorica die opgroeide in een kustdorpje in Griekenland\, aan de voet van de berg Olympus. Hier ontwikkelde zij vanaf een jonge leeftijd een interesse in kunst en geschiedenis. Op haar zeventiende verhuisde zij naar Amsterdam om aan de Universiteit van Amsterdam kunstgeschiedenis te studeren. Zij heeft zich gespecialiseerd in de Griekse oudheid\, mythologie\, zeventiende-eeuwse schilderkunst en symboliek in de kunst. Met veel enthousiasme vertelt zij over verschillende aspecten van kunst; van eeuwenoude mythen tot hoe je stijlen kunt herkennen en verborgen symbolen kunt ontcijferen. \n  \n  \nWanneer: dinsdag 5 maart 2024 \nLocatie: ‘De Acker’\, Park Berkenoord 2\, Pijnacker. \nAanvang: 20.00 uur\, inloop vanaf 19.30 uur. \nGratis toegang voor leden\, voor niet-leden € 5\,- (Betaling bij binnenkomst\, u hoeft zich niet vooraf aan te melden). \n  \nHieronder kunt u eventueel een vraag of opmerking plaatsen met betrekking tot deze activiteit:\nSchakel JavaScript in je browser in om dit formulier in te vullen.Schakel JavaScript in je browser in om dit formulier in te vullen.Naam *VoornaamAchternaamE-mailadres: *Uw vraag of opmerking:Verzend   
URL:https://hgop-pijnacker.nl/event/lezing-symboliek-bij-de-16e-en-17e-eeuwse-nederlandse-kunstenaars/
LOCATION:De Acker Pijnacker\, Park Berkenoord 2\, Pijnacker
ATTACH;FMTTYPE=image/jpeg:https://hgop-pijnacker.nl/storage/2023/04/David-Bailley.-Zelfportret-met-Vanitas-symbolen-topazai4-faceai-sharpen.jpg
END:VEVENT
BEGIN:VEVENT
DTSTART;TZID=Europe/Amsterdam:20240205T200000
DTEND;TZID=Europe/Amsterdam:20240205T220000
DTSTAMP:20260426T042648
CREATED:20240106T193417Z
LAST-MODIFIED:20240305T071547Z
UID:3642-1707163200-1707170400@hgop-pijnacker.nl
SUMMARY:Lezing: Het Plakkaat van Verlatinge\, de eerste Onafhankelijkheidsverklaring ter wereld
DESCRIPTION:  \nHebt u het nog op de lagere school geleerd\, 1581 Afzwering van Filips II door de Staten-Generaal? Eigenlijk is die betiteling niet juist. De overgebleven vertegenwoordigers van de opstandige gewesten\, die in het nog veilige Den Haag hun toevlucht hebben gezocht\, zwoeren niet zelf de landsheer af. Maar ze verordenden dat de ambtenaren dat moesten doen. Die moesten vervolgens trouw zweren aan de Staten van hun gewest. Koninklijke zegels werden prompt vervangen door nieuwe. De koning werd uitgesloten van het bestuur en – de duidelijkste revolutionaire maatregel – er kwamen nieuwe munten. \nIn feite verklaarden de gewesten zich vrij. De eerste keer in de geschiedenis dat zoiets gebeurde. Er is daarom alle reden om het besluit (Plakkaat)\, tot het verlaten van de landsheer te koesteren als de eerste onafhankelijkheidsverklaring ter wereld. Maar liefst twee eeuwen voordat de Verenigde Staten van Noord-Amerika tot hun Declaration of Independence kwamen. \nDr. Anton J.L. van Hooff\, geboren in Den Haag\, publiceerde in 2018 een vloeiende versie van het Plakkaat\, voorzien van historische context en bespreking van de invloed: het Plakkaat van Verlatinge. De eerste onafhankelijkheidsverklaring. Een jaar later maakte hij een onderwijsversie van deze geboorteakte van Nederland. \nIn de vorm van een beeldverhaal zal Van Hooff inhoud en betekenis van het Plakkaat toelichten.  Zie de bijlage \nVan Hooff is historicus en auteur van een hele reeks publieksboeken. Zijn publicaties brengen de geschiedenis tot leven. Als docent\, spreker en schrijver inspireert hij generaties met zijn liefde voor de historie. Van Hooff is bruggenbouwer tussen heden en verleden. Zijn werk kan ons helpen uit de geschiedenis wijsheid voor de uitdagingen van vandaag aan te gaan. \nWanneer: maandag 5 februari 2024 \nLocatie: ‘De Acker’\, Park Berkenoord 2\, Pijnacker. \nAanvang: 20.00 uur\, inloop vanaf 19.30 uur. \nGratis toegang voor leden\, voor niet-leden € 5\,- \n  \nBijlage (Klik op de afbeeldingen voor een grotere weergave). \n  \n     \n  \n  \n  \n  \n  \n  \n  \n  \n  \nHieronder kunt u eventueel een vraag of opmerking plaatsen met betrekking tot deze activiteit:\nSchakel JavaScript in je browser in om dit formulier in te vullen.Schakel JavaScript in je browser in om dit formulier in te vullen.Naam *VoornaamAchternaamE-mailadres: *Uw vraag of opmerking:Verzend   
URL:https://hgop-pijnacker.nl/event/lezing-het-plakkaat-van-verlatinge-de-eerste-onafhankelijkheidsverklaring-ter-wereld/
LOCATION:De Acker Pijnacker\, Park Berkenoord 2\, Pijnacker
CATEGORIES:Lezing landelijk
ATTACH;FMTTYPE=image/jpeg:https://hgop-pijnacker.nl/storage/2024/01/ondertekening-plakkaat-van-verlatinghe.jpg
END:VEVENT
BEGIN:VEVENT
DTSTART;TZID=Europe/Amsterdam:20240109T200000
DTEND;TZID=Europe/Amsterdam:20240109T220000
DTSTAMP:20260426T042648
CREATED:20231011T182029Z
LAST-MODIFIED:20240305T071547Z
UID:2596-1704830400-1704837600@hgop-pijnacker.nl
SUMMARY:Centsprenten: een massamedium in vroeger tijden
DESCRIPTION:Centsprenten waren van 1650 tot ver in de 19e eeuw een massamedium. Ze werden goedkoop geproduceerd en in grote oplagen gedrukt en via boekhandels\, markten en marskramers tot in alle uithoeken van de Nederlanden verspreid. Drukkers en uitgevers brachten de prenten\, grof gekleurd of zwartwit\, in series op de markt. Verkocht voor een of enkele centen en dus voor iedereen betaalbaar\, brachten ze de meest uiteenlopende onderwerpen in beeld voor jong en oud: vorstenportretten\, historische gebeurtenissen\, feesten\, stadgezichten\, uitheemse taferelen\, planten en dieren. Ook verhalen waren in woord en beeld op de prenten te vinden\, zoals bijbelverhalen\, kluchten en sprookjes\, maar ook nepnieuws en rampen werden via de betaalbare prenten gecommuniceerd. In Nederland en België zijn er tot zelfs in de jaren 1950 vele miljoenen gedrukt en verspreid. Daar is helaas onthutsend weinig van overgebleven. \nAernout Borms is een gerenommeerd expert op het gebied van centsprenten. Zijn onderzoek richt zich op de ontwikkeling en de economische en culturele betekenis van deze vorm van grafische communicatie. Hij heeft als verzamelaar en publicist bijgedragen aan het begrip en behoud van deze belangrijke\, maar uitgestorven uitingen van volkscultuur en aan de ontwikkeling van drukwerk en grafiek. Samenwerking met drie andere experts leidde in 2014 tot de publicatie van een standaardwerk dat inzicht geeft in de manier waarop deze prenten werden geproduceerd\, verspreid en gebruikt tussen 1650 en 1950. Borms’ toewijding aan het behoud van dit erfgoed is van onschatbare waarde voor de studie van volkscultuur en grafische kunst. \n  \nAls vervolg op deze lezing is het mogelijk een georganiseerd bezoek te brengen aan de Koninklijke Bibliotheek in Den Haag. Daar zal door vakspecialiste Karin Vingerhoets een aantal centsprenten uitgestald worden. U kunt zich hiervoor opgeven bij Lia Robroeks op 9 januari\, of u aanmelden met een e-mail naar lezingen@hgop-pijnacker.nl . Dit bezoek gaat alleen bij voldoende animo door. Het aantal deelnemers is maximaal 30 personen. Inschrijving gebeurt op volgorde van aanmelding. \n  \nWanneer: dinsdag 9 januari 2024 \nLocatie: ‘De Acker’\, Park Berkenoord 2\, Pijnacker. \nAanvang: 20.00 uur\, inloop vanaf 19.30 uur. \nGratis toegang voor leden\, voor niet-leden € 5\,-
URL:https://hgop-pijnacker.nl/event/centsprenten-een-massamedium-in-vroeger-tijden/
LOCATION:De Acker Pijnacker\, Park Berkenoord 2\, Pijnacker
ATTACH;FMTTYPE=image/jpeg:https://hgop-pijnacker.nl/storage/2023/10/Saardammer-stier-Putte-003-scaled.jpg
END:VEVENT
BEGIN:VEVENT
DTSTART;VALUE=DATE:20230914
DTEND;VALUE=DATE:20240601
DTSTAMP:20260426T042648
CREATED:20230912T142442Z
LAST-MODIFIED:20240305T071547Z
UID:2507-1694649600-1717199999@hgop-pijnacker.nl
SUMMARY:Tentoonstelling "Buurten in Pijnacker"
DESCRIPTION:De leden van het Historisch Informatie Punt (HIP) hebben een nieuwe tentoonstelling samengesteld\, met deze keer als onderwerp ‘Buurten in Pijnacker’ en dat zijn er wel een paar. We kennen allemaal ‘de Buurt’\, oftewel de Katwijkerbuurt\, maar ook de Oude Leede\, Noukoop en de Bonkenbuurt zijn te zien op foto’s en in de PowerPoint. Tijdens openingstijden van de bibliotheek kunt u de tentoonstelling bekijken. \nHeeft u aanvullend materiaal of leuke verhalen? De leden van het HIP ontvangen ze graag. Elke zaterdag is er iemand in de bibliotheek aanwezig van 11.00 uur tot 13.00 uur. \nOude Leede Voetbal 1979 Oost tegen West\nBerkelseweg 1913 of 1923\nDelftsestraatweg 152 Winkel Jager-Hazeu\n  \n  \n  \n  \n  \n\n\nHieronder kunt u eventueel een vraag of opmerking plaatsen met betrekking tot deze activiteit:\nSchakel JavaScript in je browser in om dit formulier in te vullen.Schakel JavaScript in je browser in om dit formulier in te vullen.Naam *VoornaamAchternaamE-mailadres: *Uw vraag of opmerking:Verzend   
URL:https://hgop-pijnacker.nl/event/tentoonstelling-buurten-in-pijnacker/
LOCATION:Bibliotheek Pijnacker\, Julianalaan 47\, Pijnacker
ATTACH;FMTTYPE=image/jpeg:https://hgop-pijnacker.nl/storage/2023/11/9.4-Katwijkerlaan-Openbare-Lagere-School-brug-naar-boederij-Van-Dam-scaled.jpg
END:VEVENT
END:VCALENDAR